BEGIN:VCALENDAR
VERSION:2.0
PRODID:-//Cornell AI Initiative - ECPv6.15.19//NONSGML v1.0//EN
CALSCALE:GREGORIAN
METHOD:PUBLISH
X-WR-CALNAME:Cornell AI Initiative
X-ORIGINAL-URL:https://ai.cornell.edu
X-WR-CALDESC:Events for Cornell AI Initiative
REFRESH-INTERVAL;VALUE=DURATION:PT1H
X-Robots-Tag:noindex
X-PUBLISHED-TTL:PT1H
BEGIN:VTIMEZONE
TZID:America/New_York
BEGIN:DAYLIGHT
TZOFFSETFROM:-0500
TZOFFSETTO:-0400
TZNAME:EDT
DTSTART:20250309T070000
END:DAYLIGHT
BEGIN:STANDARD
TZOFFSETFROM:-0400
TZOFFSETTO:-0500
TZNAME:EST
DTSTART:20251102T060000
END:STANDARD
BEGIN:DAYLIGHT
TZOFFSETFROM:-0500
TZOFFSETTO:-0400
TZNAME:EDT
DTSTART:20260308T070000
END:DAYLIGHT
BEGIN:STANDARD
TZOFFSETFROM:-0400
TZOFFSETTO:-0500
TZNAME:EST
DTSTART:20261101T060000
END:STANDARD
BEGIN:DAYLIGHT
TZOFFSETFROM:-0500
TZOFFSETTO:-0400
TZNAME:EDT
DTSTART:20270314T070000
END:DAYLIGHT
BEGIN:STANDARD
TZOFFSETFROM:-0400
TZOFFSETTO:-0500
TZNAME:EST
DTSTART:20271107T060000
END:STANDARD
END:VTIMEZONE
BEGIN:VEVENT
DTSTART;TZID=America/New_York:20260421T173000
DTEND;TZID=America/New_York:20260421T200000
DTSTAMP:20260421T023138
CREATED:20260407T145609Z
LAST-MODIFIED:20260407T145609Z
UID:10000306-1776792600-1776801600@ai.cornell.edu
SUMMARY:AI and Sustainability: Unlocking the Promise\, Navigating the Risks
DESCRIPTION:Join us in New York City for a timely conversation on AI and sustainability with Cornell faculty and leading voices from industry and policy. As AI advances\, it is unlocking new ways to tackle complex sustainability challenges while also introducing significant environmental and societal risks. \nThis panel will explore why managing both sides of this equation is critical for leaders across sectors: from big nature data analysis and improving the efficiency of AI to pressure on power grids and the need for responsible AI application. Panelists will highlight key opportunities\, emerging risks\, and what leaders\, donors\, and innovators need to know to act responsibly and effectively. \nRegistration Required
URL:https://ai.cornell.edu/event/ai-and-sustainability-unlocking-the-promise-navigating-the-risks/
LOCATION:Cornell Tech campus\, 2 W Loop Rd\, New York\, NY\, 10044\, United States
ATTACH;FMTTYPE=image/png:https://ai.cornell.edu/wp-content/uploads/Screenshot-2026-04-07-at-10.55.37-AM.png
END:VEVENT
END:VCALENDAR